BEGIN:VCALENDAR
VERSION:2.0
PRODID:-//Horeb Community Church - ECPv6.15.20//NONSGML v1.0//EN
CALSCALE:GREGORIAN
METHOD:PUBLISH
X-WR-CALNAME:Horeb Community Church
X-ORIGINAL-URL:https://horebcommunitychurch.com
X-WR-CALDESC:Events for Horeb Community Church
REFRESH-INTERVAL;VALUE=DURATION:PT1H
X-Robots-Tag:noindex
X-PUBLISHED-TTL:PT1H
BEGIN:VTIMEZONE
TZID:America/Denver
BEGIN:DAYLIGHT
TZOFFSETFROM:-0700
TZOFFSETTO:-0600
TZNAME:MDT
DTSTART:20250309T090000
END:DAYLIGHT
BEGIN:STANDARD
TZOFFSETFROM:-0600
TZOFFSETTO:-0700
TZNAME:MST
DTSTART:20251102T080000
END:STANDARD
BEGIN:DAYLIGHT
TZOFFSETFROM:-0700
TZOFFSETTO:-0600
TZNAME:MDT
DTSTART:20260308T090000
END:DAYLIGHT
BEGIN:STANDARD
TZOFFSETFROM:-0600
TZOFFSETTO:-0700
TZNAME:MST
DTSTART:20261101T080000
END:STANDARD
BEGIN:DAYLIGHT
TZOFFSETFROM:-0700
TZOFFSETTO:-0600
TZNAME:MDT
DTSTART:20270314T090000
END:DAYLIGHT
BEGIN:STANDARD
TZOFFSETFROM:-0600
TZOFFSETTO:-0700
TZNAME:MST
DTSTART:20271107T080000
END:STANDARD
END:VTIMEZONE
BEGIN:VEVENT
DTSTART;TZID=America/Denver:20260215T173000
DTEND;TZID=America/Denver:20260215T203000
DTSTAMP:20260419T091401
CREATED:20260204T161343Z
LAST-MODIFIED:20260204T161520Z
UID:535-1771176600-1771187400@horebcommunitychurch.com
SUMMARY:Valentine’s Day Dinner / Cena de San Valentín
DESCRIPTION:Celebrate Valentine’s Day with us! We will gather in the Sanctuary (Building A) for a special service\, followed by dinner in the Fellowship Hall (Building C). Bring your loved ones\, family\, and friends. \n// \nCelebre el Día de San Valentín con nosotros. Nos reuniremos en el Santuario (Edificio A) para un servicio especial\, seguido de una cena en el Salón de Confraternidad (Edificio C). Traiga a sus seres queridos\, familiares y amigos.
URL:https://horebcommunitychurch.com/event/valentines-day-dinner-cena-de-san-valentin/
LOCATION:Horeb Community Church\, 3198 N. Flowing Wells Rd\, Tucson\, AZ\, 85705\, United States
CATEGORIES:Special Events,Valentine's Day
END:VEVENT
BEGIN:VEVENT
DTSTART;TZID=America/Denver:20260221T070000
DTEND;TZID=America/Denver:20260221T090000
DTSTAMP:20260419T091401
CREATED:20260214T080525Z
LAST-MODIFIED:20260214T080525Z
UID:541-1771657200-1771664400@horebcommunitychurch.com
SUMMARY:Monthly Church Cleanup / Limpieza mensual de la iglesia
DESCRIPTION:
URL:https://horebcommunitychurch.com/event/monthly-church-cleanup-limpieza-mensual-de-la-iglesia/
LOCATION:Horeb Community Church\, 3198 N. Flowing Wells Rd\, Tucson\, AZ\, 85705\, United States
CATEGORIES:Church Cleaning
END:VEVENT
END:VCALENDAR