BEGIN:VCALENDAR
VERSION:2.0
PRODID:-//Horeb Community Church - ECPv6.15.20//NONSGML v1.0//EN
CALSCALE:GREGORIAN
METHOD:PUBLISH
X-ORIGINAL-URL:https://horebcommunitychurch.com
X-WR-CALDESC:Events for Horeb Community Church
REFRESH-INTERVAL;VALUE=DURATION:PT1H
X-Robots-Tag:noindex
X-PUBLISHED-TTL:PT1H
BEGIN:VTIMEZONE
TZID:America/Denver
BEGIN:DAYLIGHT
TZOFFSETFROM:-0700
TZOFFSETTO:-0600
TZNAME:MDT
DTSTART:20250309T090000
END:DAYLIGHT
BEGIN:STANDARD
TZOFFSETFROM:-0600
TZOFFSETTO:-0700
TZNAME:MST
DTSTART:20251102T080000
END:STANDARD
BEGIN:DAYLIGHT
TZOFFSETFROM:-0700
TZOFFSETTO:-0600
TZNAME:MDT
DTSTART:20260308T090000
END:DAYLIGHT
BEGIN:STANDARD
TZOFFSETFROM:-0600
TZOFFSETTO:-0700
TZNAME:MST
DTSTART:20261101T080000
END:STANDARD
BEGIN:DAYLIGHT
TZOFFSETFROM:-0700
TZOFFSETTO:-0600
TZNAME:MDT
DTSTART:20270314T090000
END:DAYLIGHT
BEGIN:STANDARD
TZOFFSETFROM:-0600
TZOFFSETTO:-0700
TZNAME:MST
DTSTART:20271107T080000
END:STANDARD
END:VTIMEZONE
BEGIN:VEVENT
DTSTART;TZID=America/Denver:20260402T190000
DTEND;TZID=America/Denver:20260402T210000
DTSTAMP:20260419T143615
CREATED:20260313T180152Z
LAST-MODIFIED:20260313T181258Z
UID:573-1775156400-1775163600@horebcommunitychurch.com
SUMMARY:The Seven Last Sayings of Christ / Las Siete Últimas Palabras de Cristo
DESCRIPTION:Join us for a meaningful evening of worship and reflection as we remember the sacrifice and love of Jesus Christ. This service will begin at 7:00 PM in the sanctuary (Building A)\, and all are warmly invited to take part in this special time of prayer\, Scripture reading\, and remembrance. We invite you to bring your family and friends as we gather together in faith and gratitude. \n\n\n\n\n\n\n\n// \nAcompáñenos para una noche significativa de adoración y reflexión mientras recordamos el sacrificio y el amor de Jesucristo. Nuestro servicio comenzará a las 7:00 p. m. en el santuario (Edificio A)\, y todos están cordialmente invitados a participar en este tiempo especial de oración\, lectura de las Escrituras y conmemoración. Los invitamos a traer a su familia y amigos para reunirnos juntos en fe y gratitud.
URL:https://horebcommunitychurch.com/event/good-friday-viernes-santo/
LOCATION:Horeb Community Church\, 3198 N. Flowing Wells Rd\, Tucson\, AZ\, 85705\, United States
CATEGORIES:Good Friday
END:VEVENT
BEGIN:VEVENT
DTSTART;TZID=America/Denver:20260405T060000
DTEND;TZID=America/Denver:20260405T070000
DTSTAMP:20260419T143615
CREATED:20260309T210150Z
LAST-MODIFIED:20260309T210224Z
UID:564-1775368800-1775372400@horebcommunitychurch.com
SUMMARY:Easter Service / Servicio de Pascua
DESCRIPTION:Join us for our Easter Sunrise Service on April 5 at 6:00 a.m. in the sanctuary (Building A) as we gather to celebrate the joy and hope of Christ’s resurrection. This special early morning service is a time for worship\, prayer\, and reflection as we welcome Easter together in a peaceful and meaningful setting. \n// \nAcompáñenos a nuestro Servicio de Pascua al amanecer el 5 de abril a las 6:00 a. m. en el santuario (Edificio A)\, mientras nos reunimos para celebrar el gozo y la esperanza de la resurrección de Cristo. Este servicio especial de madrugada será un tiempo de adoración\, oración y reflexión\, en un ambiente de paz y significado para dar la bienvenida juntos a la Pascua.
URL:https://horebcommunitychurch.com/event/easter-service-servicio-de-pascua/
LOCATION:Horeb Community Church\, 3198 N. Flowing Wells Rd\, Tucson\, AZ\, 85705\, United States
CATEGORIES:Easter Service,Special Events
END:VEVENT
BEGIN:VEVENT
DTSTART;TZID=America/Denver:20260425T070000
DTEND;TZID=America/Denver:20260425T090000
DTSTAMP:20260419T143615
CREATED:20260419T201202Z
LAST-MODIFIED:20260419T201202Z
UID:595-1777100400-1777107600@horebcommunitychurch.com
SUMMARY:Monthly Church Cleanup / Limpieza mensual de la iglesia
DESCRIPTION:
URL:https://horebcommunitychurch.com/event/monthly-church-cleanup-limpieza-mensual-de-la-iglesia-3/
LOCATION:Horeb Community Church\, 3198 N. Flowing Wells Rd\, Tucson\, AZ\, 85705\, United States
CATEGORIES:Church Cleaning
END:VEVENT
BEGIN:VEVENT
DTSTART;TZID=America/Denver:20260705T000000
DTEND;TZID=America/Denver:20260711T235959
DTSTAMP:20260419T143615
CREATED:20260309T210522Z
LAST-MODIFIED:20260309T210522Z
UID:566-1783209600-1783814399@horebcommunitychurch.com
SUMMARY:Church is cancelled / La iglesia está cancelada
DESCRIPTION:
URL:https://horebcommunitychurch.com/event/church-is-cancelled-la-iglesia-esta-cancelada-3/
LOCATION:AZ
END:VEVENT
BEGIN:VEVENT
DTSTART;TZID=America/Denver:20261126T170000
DTEND;TZID=America/Denver:20261126T200000
DTSTAMP:20260419T143615
CREATED:20260309T211341Z
LAST-MODIFIED:20260309T211341Z
UID:569-1795712400-1795723200@horebcommunitychurch.com
SUMMARY:Thanksgiving Dinner / Cena de Acción de Gracias
DESCRIPTION:Join us for our Thanksgiving Dinner in the Fellowship Hall (Building C) from 5:00 p.m. to 8:00 p.m. as we come together to share a warm meal and give thanks for God’s many blessings. This special evening will be a wonderful time of fellowship\, gratitude\, and community as family and friends gather to celebrate in a welcoming and joyful atmosphere. \n// \nJoin us for our Thanksgiving Dinner in the Fellowship Hall (Building C) from 5:00 p.m. to 8:00 p.m. as we come together to share a warm meal and give thanks for God’s many blessings. This special evening will be a wonderful time of fellowship\, gratitude\, and community as family and friends gather to celebrate in a welcoming and joyful atmosphere.
URL:https://horebcommunitychurch.com/event/thanksgiving-dinner-cena-de-accion-de-gracias-2/
LOCATION:Horeb Community Church\, 3198 N. Flowing Wells Rd\, Tucson\, AZ\, 85705\, United States
END:VEVENT
BEGIN:VEVENT
DTSTART;TZID=America/Denver:20261224T000000
DTEND;TZID=America/Denver:20261225T235959
DTSTAMP:20260419T143615
CREATED:20260309T211508Z
LAST-MODIFIED:20260309T211508Z
UID:571-1798070400-1798243199@horebcommunitychurch.com
SUMMARY:Church is cancelled / La iglesia está cancelada
DESCRIPTION:
URL:https://horebcommunitychurch.com/event/church-is-cancelled-la-iglesia-esta-cancelada-4/
LOCATION:AZ
END:VEVENT
END:VCALENDAR