BEGIN:VCALENDAR
VERSION:2.0
PRODID:-//Horeb Community Church - ECPv6.15.20//NONSGML v1.0//EN
CALSCALE:GREGORIAN
METHOD:PUBLISH
X-WR-CALNAME:Horeb Community Church
X-ORIGINAL-URL:https://horebcommunitychurch.com
X-WR-CALDESC:Events for Horeb Community Church
REFRESH-INTERVAL;VALUE=DURATION:PT1H
X-Robots-Tag:noindex
X-PUBLISHED-TTL:PT1H
BEGIN:VTIMEZONE
TZID:America/Denver
BEGIN:DAYLIGHT
TZOFFSETFROM:-0700
TZOFFSETTO:-0600
TZNAME:MDT
DTSTART:20250309T090000
END:DAYLIGHT
BEGIN:STANDARD
TZOFFSETFROM:-0600
TZOFFSETTO:-0700
TZNAME:MST
DTSTART:20251102T080000
END:STANDARD
BEGIN:DAYLIGHT
TZOFFSETFROM:-0700
TZOFFSETTO:-0600
TZNAME:MDT
DTSTART:20260308T090000
END:DAYLIGHT
BEGIN:STANDARD
TZOFFSETFROM:-0600
TZOFFSETTO:-0700
TZNAME:MST
DTSTART:20261101T080000
END:STANDARD
BEGIN:DAYLIGHT
TZOFFSETFROM:-0700
TZOFFSETTO:-0600
TZNAME:MDT
DTSTART:20270314T090000
END:DAYLIGHT
BEGIN:STANDARD
TZOFFSETFROM:-0600
TZOFFSETTO:-0700
TZNAME:MST
DTSTART:20271107T080000
END:STANDARD
END:VTIMEZONE
BEGIN:VEVENT
DTSTART;TZID=America/Denver:20260402T190000
DTEND;TZID=America/Denver:20260402T210000
DTSTAMP:20260419T123141
CREATED:20260313T180152Z
LAST-MODIFIED:20260313T181258Z
UID:573-1775156400-1775163600@horebcommunitychurch.com
SUMMARY:The Seven Last Sayings of Christ / Las Siete Últimas Palabras de Cristo
DESCRIPTION:Join us for a meaningful evening of worship and reflection as we remember the sacrifice and love of Jesus Christ. This service will begin at 7:00 PM in the sanctuary (Building A)\, and all are warmly invited to take part in this special time of prayer\, Scripture reading\, and remembrance. We invite you to bring your family and friends as we gather together in faith and gratitude. \n\n\n\n\n\n\n\n// \nAcompáñenos para una noche significativa de adoración y reflexión mientras recordamos el sacrificio y el amor de Jesucristo. Nuestro servicio comenzará a las 7:00 p. m. en el santuario (Edificio A)\, y todos están cordialmente invitados a participar en este tiempo especial de oración\, lectura de las Escrituras y conmemoración. Los invitamos a traer a su familia y amigos para reunirnos juntos en fe y gratitud.
URL:https://horebcommunitychurch.com/event/good-friday-viernes-santo/
LOCATION:Horeb Community Church\, 3198 N. Flowing Wells Rd\, Tucson\, AZ\, 85705\, United States
CATEGORIES:Good Friday
END:VEVENT
END:VCALENDAR