BEGIN:VCALENDAR
VERSION:2.0
PRODID:-//Horeb Community Church - ECPv6.15.20//NONSGML v1.0//EN
CALSCALE:GREGORIAN
METHOD:PUBLISH
X-WR-CALNAME:Horeb Community Church
X-ORIGINAL-URL:https://horebcommunitychurch.com
X-WR-CALDESC:Events for Horeb Community Church
REFRESH-INTERVAL;VALUE=DURATION:PT1H
X-Robots-Tag:noindex
X-PUBLISHED-TTL:PT1H
BEGIN:VTIMEZONE
TZID:America/Denver
BEGIN:DAYLIGHT
TZOFFSETFROM:-0700
TZOFFSETTO:-0600
TZNAME:MDT
DTSTART:20250309T090000
END:DAYLIGHT
BEGIN:STANDARD
TZOFFSETFROM:-0600
TZOFFSETTO:-0700
TZNAME:MST
DTSTART:20251102T080000
END:STANDARD
BEGIN:DAYLIGHT
TZOFFSETFROM:-0700
TZOFFSETTO:-0600
TZNAME:MDT
DTSTART:20260308T090000
END:DAYLIGHT
BEGIN:STANDARD
TZOFFSETFROM:-0600
TZOFFSETTO:-0700
TZNAME:MST
DTSTART:20261101T080000
END:STANDARD
BEGIN:DAYLIGHT
TZOFFSETFROM:-0700
TZOFFSETTO:-0600
TZNAME:MDT
DTSTART:20270314T090000
END:DAYLIGHT
BEGIN:STANDARD
TZOFFSETFROM:-0600
TZOFFSETTO:-0700
TZNAME:MST
DTSTART:20271107T080000
END:STANDARD
END:VTIMEZONE
BEGIN:VEVENT
DTSTART;TZID=America/Denver:20260322T100000
DTEND;TZID=America/Denver:20260322T160000
DTSTAMP:20260419T143614
CREATED:20260224T223755Z
LAST-MODIFIED:20260317T190212Z
UID:548-1774173600-1774195200@horebcommunitychurch.com
SUMMARY:Food Event / Evento de Comida
DESCRIPTION:Join us on March 22\, 2026 from 10:00 a.m. to 4:00 p.m. for a day full of flavor\, community\, and joy! Enjoy delicious freshly made burgers\, crispy fries\, and a family-friendly atmosphere where faith and friendship come together around the grill. \nIt will be a special time to share\, laugh\, and connect with others while enjoying great food. Invite your family and friends and come hungry! \n// \n \n¡Acompáñanos el 22 de marzo de 2026 de 10:00 a.m. a 4:00 p.m. para un día lleno de sabor\, comunidad y alegría! Disfruta de deliciosas hamburguesas recién hechas\, papas crujientes y un ambiente familiar donde la fe y la amistad se reúnen alrededor de la parrilla. \nSerá un tiempo especial para compartir\, reír y conectar con otros mientras saboreas buena comida. ¡Invita a tu familia y amigos y ven con hambre!
URL:https://horebcommunitychurch.com/event/food-event-evento-de-comida/
LOCATION:Horeb Community Church\, 3198 N. Flowing Wells Rd\, Tucson\, AZ\, 85705\, United States
CATEGORIES:Food Event,Special Events
END:VEVENT
END:VCALENDAR