BEGIN:VCALENDAR
VERSION:2.0
PRODID:-//Horeb Community Church - ECPv6.15.20//NONSGML v1.0//EN
CALSCALE:GREGORIAN
METHOD:PUBLISH
X-WR-CALNAME:Horeb Community Church
X-ORIGINAL-URL:https://horebcommunitychurch.com
X-WR-CALDESC:Events for Horeb Community Church
REFRESH-INTERVAL;VALUE=DURATION:PT1H
X-Robots-Tag:noindex
X-PUBLISHED-TTL:PT1H
BEGIN:VTIMEZONE
TZID:America/Denver
BEGIN:DAYLIGHT
TZOFFSETFROM:-0700
TZOFFSETTO:-0600
TZNAME:MDT
DTSTART:20240310T090000
END:DAYLIGHT
BEGIN:STANDARD
TZOFFSETFROM:-0600
TZOFFSETTO:-0700
TZNAME:MST
DTSTART:20241103T080000
END:STANDARD
BEGIN:DAYLIGHT
TZOFFSETFROM:-0700
TZOFFSETTO:-0600
TZNAME:MDT
DTSTART:20250309T090000
END:DAYLIGHT
BEGIN:STANDARD
TZOFFSETFROM:-0600
TZOFFSETTO:-0700
TZNAME:MST
DTSTART:20251102T080000
END:STANDARD
BEGIN:DAYLIGHT
TZOFFSETFROM:-0700
TZOFFSETTO:-0600
TZNAME:MDT
DTSTART:20260308T090000
END:DAYLIGHT
BEGIN:STANDARD
TZOFFSETFROM:-0600
TZOFFSETTO:-0700
TZNAME:MST
DTSTART:20261101T080000
END:STANDARD
END:VTIMEZONE
BEGIN:VEVENT
DTSTART;TZID=America/Denver:20251218T000000
DTEND;TZID=America/Denver:20251218T235959
DTSTAMP:20260419T143107
CREATED:20251216T213518Z
LAST-MODIFIED:20251216T213518Z
UID:441-1766016000-1766102399@horebcommunitychurch.com
SUMMARY:Thursday Night Classes Cancelled / Clases Del Jueves Por La Noche Canceladas
DESCRIPTION:
URL:https://horebcommunitychurch.com/event/thursday-night-classes-cancelled-clases-del-jueves-por-la-noche-canceladas-2/
LOCATION:AZ
END:VEVENT
END:VCALENDAR