BEGIN:VCALENDAR
VERSION:2.0
PRODID:-//Horeb Community Church - ECPv6.15.20//NONSGML v1.0//EN
CALSCALE:GREGORIAN
METHOD:PUBLISH
X-ORIGINAL-URL:https://horebcommunitychurch.com
X-WR-CALDESC:Events for Horeb Community Church
REFRESH-INTERVAL;VALUE=DURATION:PT1H
X-Robots-Tag:noindex
X-PUBLISHED-TTL:PT1H
BEGIN:VTIMEZONE
TZID:America/Denver
BEGIN:DAYLIGHT
TZOFFSETFROM:-0700
TZOFFSETTO:-0600
TZNAME:MDT
DTSTART:20240310T090000
END:DAYLIGHT
BEGIN:STANDARD
TZOFFSETFROM:-0600
TZOFFSETTO:-0700
TZNAME:MST
DTSTART:20241103T080000
END:STANDARD
BEGIN:DAYLIGHT
TZOFFSETFROM:-0700
TZOFFSETTO:-0600
TZNAME:MDT
DTSTART:20250309T090000
END:DAYLIGHT
BEGIN:STANDARD
TZOFFSETFROM:-0600
TZOFFSETTO:-0700
TZNAME:MST
DTSTART:20251102T080000
END:STANDARD
BEGIN:DAYLIGHT
TZOFFSETFROM:-0700
TZOFFSETTO:-0600
TZNAME:MDT
DTSTART:20260308T090000
END:DAYLIGHT
BEGIN:STANDARD
TZOFFSETFROM:-0600
TZOFFSETTO:-0700
TZNAME:MST
DTSTART:20261101T080000
END:STANDARD
END:VTIMEZONE
BEGIN:VEVENT
DTSTART;TZID=America/Denver:20251207T173000
DTEND;TZID=America/Denver:20251207T193000
DTSTAMP:20260419T143230
CREATED:20251125T181630Z
LAST-MODIFIED:20251125T181630Z
UID:422-1765128600-1765135800@horebcommunitychurch.com
SUMMARY:Sunday Service (New Location) / Servicio del Domingo (Nueva Ubicación)
DESCRIPTION:Join us as we celebrate our very first Sunday service in our new location! We invite you\, your family\, and friends to be part of this special moment in our church’s journey. // ¡Acompáñanos para celebrar nuestro primer servicio dominical en nuestra nueva ubicación! Te invitamos a ti\, a tu familia y a tus amigos a ser parte de este momento especial en la historia de nuestra iglesia.
URL:https://horebcommunitychurch.com/event/sunday-service-new-location-servicio-del-domingo-nueva-ubicacion/
LOCATION:Horeb Community Church\, 3198 N. Flowing Wells Rd\, Tucson\, AZ\, 85705\, United States
END:VEVENT
END:VCALENDAR